BEGIN:VCALENDAR
VERSION:2.0
PRODID:-//wp-events-plugin.com//7.2.3.1//EN
TZID:America/New_York
X-WR-TIMEZONE:America/New_York
BEGIN:VEVENT
UID:18074@beahivebzzz.com
DTSTART;TZID=America/New_York:20160415T190000
DTEND;TZID=America/New_York:20160415T213000
DTSTAMP:20160402T213251Z
URL:https://beahivebzzz.com/events/open-hive-music-jeffrey-pepper-rodgers-
 wendy-ramsay-and-open-book/
SUMMARY:OPEN HIVE / Music - A Duo of Duos: Jeffrey Pepper Rodgers & Wendy R
 amsay and Open Book - Beacon
DESCRIPTION:Join us for an intimate evening of inventive guitar-work and vi
 brant vocal harmonies\, with two dynamic musical duos.
ATTACH;FMTTYPE=image/jpeg:https://i0.wp.com/beahivebzzz.com/wp-content/upl
 oads/2016/01/Jeffrey-Rodgers-Wendy-Ramsay-and-Open-Book_FB-event.png?fit=7
 84%2C295&ssl=1
CATEGORIES:Arts + Culture,Music
LOCATION:BEAHIVE Beacon / 291 Main Street\, Beacon\, NY
GEO:41.505775;-73.971742
X-APPLE-STRUCTURED-LOCATION;VALUE=URI;X-ADDRESS=291 Main Street\, Beacon\, 
 NY\, 12508\, Dutchess County\, United States;X-APPLE-RADIUS=100;X-TITLE=BE
 AHIVE Beacon:geo:41.505775,-73.971742
END:VEVENT
BEGIN:VTIMEZONE
TZID:America/New_York
X-LIC-LOCATION:America/New_York
BEGIN:DAYLIGHT
DTSTART:20160313T030000
TZOFFSETFROM:-0500
TZOFFSETTO:-0400
TZNAME:EDT
END:DAYLIGHT
END:VTIMEZONE
END:VCALENDAR