BEGIN:VCALENDAR
VERSION:2.0
PRODID:-//wp-events-plugin.com//7.2.3.1//EN
TZID:America/New_York
X-WR-TIMEZONE:America/New_York
BEGIN:VEVENT
UID:18764@beahivebzzz.com
DTSTART;TZID=America/New_York:20160929T190000
DTEND;TZID=America/New_York:20160929T213000
DTSTAMP:20160928T142907Z
URL:https://beahivebzzz.com/events/open-hive-music-duo-of-duos-jon-shain-f
 j-ventre-and-amy-soucy-sharon-goldman/
SUMMARY:OPEN HIVE / Music - A Duo of Duos: Jon Shain & FJ Ventre and Amy So
 ucy & Sharon Goldman - Beacon
DESCRIPTION:Amy & Sharon @ 7:30 PM. Jon & FJ @ 8:30 PM. Join us for an inti
 mate evening of inventive guitar-work and vibrant vocal harmonies\, with t
 wo dynamic musical duos.
ATTACH;FMTTYPE=image/jpeg:https://i0.wp.com/beahivebzzz.com/wp-content/upl
 oads/2016/08/Jon-Shain-FJ-Ventre-and-Amy-Soucy-Sharon-Goldman.png?fit=800%
 2C281&ssl=1
CATEGORIES:Arts + Culture,Music
LOCATION:BEAHIVE Beacon / 291 Main Street\, Beacon\, NY
GEO:41.505775;-73.971742
X-APPLE-STRUCTURED-LOCATION;VALUE=URI;X-ADDRESS=291 Main Street\, Beacon\, 
 NY\, 12508\, Dutchess County\, United States;X-APPLE-RADIUS=100;X-TITLE=BE
 AHIVE Beacon:geo:41.505775,-73.971742
END:VEVENT
BEGIN:VTIMEZONE
TZID:America/New_York
X-LIC-LOCATION:America/New_York
BEGIN:DAYLIGHT
DTSTART:20160313T030000
TZOFFSETFROM:-0500
TZOFFSETTO:-0400
TZNAME:EDT
END:DAYLIGHT
END:VTIMEZONE
END:VCALENDAR