BEGIN:VCALENDAR
VERSION:2.0
PRODID:-//wp-events-plugin.com//7.2.3.1//EN
TZID:America/New_York
X-WR-TIMEZONE:America/New_York
BEGIN:VEVENT
UID:18753@beahivebzzz.com
DTSTART;TZID=America/New_York:20161104T190000
DTEND;TZID=America/New_York:20161104T223000
DTSTAMP:20161031T123135Z
URL:https://beahivebzzz.com/events/open-hive-music-colleen-kattau-rachael-
 kilgour-pamela-means/
SUMMARY:OPEN HIVE / Music: Colleen Kattau + Rachael Kilgour + Pamela Means 
 - Beacon
DESCRIPTION:Join us for an intimate evening of three powerful artists and a
 ctivists singing original songs of change\, promise and release. Partnerin
 g with Beacon SURJ (Showing Up for Racial Justice)\, the local chapter of 
 a national network organizing white people for racial justice. Music start
 s: 7:30 PM.
ATTACH;FMTTYPE=image/jpeg:https://i0.wp.com/beahivebzzz.com/wp-content/upl
 oads/2016/07/Colleen-Kattau-Rachael-Kilgour-Pamela-Means_1100w.png?fit=110
 0%2C619&ssl=1
CATEGORIES:Arts + Culture,Music
LOCATION:BEAHIVE Beacon / 291 Main Street\, Beacon\, NY
GEO:41.505775;-73.971742
X-APPLE-STRUCTURED-LOCATION;VALUE=URI;X-ADDRESS=291 Main Street\, Beacon\, 
 NY\, 12508\, Dutchess County\, United States;X-APPLE-RADIUS=100;X-TITLE=BE
 AHIVE Beacon:geo:41.505775,-73.971742
END:VEVENT
BEGIN:VTIMEZONE
TZID:America/New_York
X-LIC-LOCATION:America/New_York
BEGIN:DAYLIGHT
DTSTART:20160313T030000
TZOFFSETFROM:-0500
TZOFFSETTO:-0400
TZNAME:EDT
END:DAYLIGHT
END:VTIMEZONE
END:VCALENDAR