BEGIN:VCALENDAR
VERSION:2.0
PRODID:-//wp-events-plugin.com//7.2.3.1//EN
TZID:America/New_York
X-WR-TIMEZONE:America/New_York
BEGIN:VEVENT
UID:22992@beahivebzzz.com
DTSTART;TZID=America/New_York:20180227T180000
DTEND;TZID=America/New_York:20180227T200000
DTSTAMP:20180213T214555Z
URL:https://beahivebzzz.com/events/hudson-valley-forward-independent-worke
 rs-unite/
SUMMARY:Hudson Valley Forward: Independent Workers Unite! - Beacon
DESCRIPTION:Join us to connect with other freelancers and learn about some 
 available resources. We'll have snacks and beer and wine!
ATTACH;FMTTYPE=image/jpeg:https://i0.wp.com/beahivebzzz.com/wp-content/upl
 oads/2018/01/HV-Forward-logo-1.png?fit=320%2C120&ssl=1
CATEGORIES:Community,Professional Development
LOCATION:BEAHIVE Beacon / 291 Main Street\, Beacon\, NY
GEO:41.505775;-73.971742
X-APPLE-STRUCTURED-LOCATION;VALUE=URI;X-ADDRESS=291 Main Street\, Beacon\, 
 NY\, 12508\, Dutchess County\, United States;X-APPLE-RADIUS=100;X-TITLE=BE
 AHIVE Beacon:geo:41.505775,-73.971742
END:VEVENT
BEGIN:VTIMEZONE
TZID:America/New_York
X-LIC-LOCATION:America/New_York
BEGIN:STANDARD
DTSTART:20171105T010000
TZOFFSETFROM:-0400
TZOFFSETTO:-0500
TZNAME:EST
END:STANDARD
END:VTIMEZONE
END:VCALENDAR