BEGIN:VCALENDAR
VERSION:2.0
PRODID:-//wp-events-plugin.com//7.2.3.1//EN
TZID:America/New_York
X-WR-TIMEZONE:America/New_York
BEGIN:VEVENT
UID:17894@beahivebzzz.com
DTSTART;TZID=America/New_York:20150930T183000
DTEND;TZID=America/New_York:20150930T210000
DTSTAMP:20150928T204604Z
URL:https://beahivebzzz.com/events/financing-for-healthy-communities-and-s
 ocial-enterprises/
SUMMARY:Financing for Healthy Communities and Social Enterprises - Beacon
DESCRIPTION:Are you an entrepreneur\, social venture\, or nonprofit looking
  to raise money legally\, cost-effectively and in alignment with your goal
 s and values? Join attorney John Katovich from Cutting Edge Capital to dis
 cuss financing for sustainable\, clean tech\, renewables\, sustainable agr
 iculture\, local economies through crowd funding and direct public offerin
 gs.
ATTACH;FMTTYPE=image/jpeg:https://i0.wp.com/beahivebzzz.com/wp-content/upl
 oads/2015/08/John-Katovitch.jpg?fit=300%2C288&ssl=1
CATEGORIES:Local Living Economy,Professional Development
LOCATION:BEAHIVE Beacon / 291 Main Street\, Beacon\, NY
GEO:41.505775;-73.971742
X-APPLE-STRUCTURED-LOCATION;VALUE=URI;X-ADDRESS=291 Main Street\, Beacon\, 
 NY\, 12508\, Dutchess County\, United States;X-APPLE-RADIUS=100;X-TITLE=BE
 AHIVE Beacon:geo:41.505775,-73.971742
END:VEVENT
BEGIN:VTIMEZONE
TZID:America/New_York
X-LIC-LOCATION:America/New_York
BEGIN:DAYLIGHT
DTSTART:20150308T030000
TZOFFSETFROM:-0500
TZOFFSETTO:-0400
TZNAME:EDT
END:DAYLIGHT
END:VTIMEZONE
END:VCALENDAR