BEGIN:VCALENDAR
VERSION:2.0
PRODID:-//wp-events-plugin.com//7.2.3.1//EN
TZID:America/New_York
X-WR-TIMEZONE:America/New_York
BEGIN:VEVENT
UID:17693@beahivebzzz.com
DTSTART;TZID=America/New_York:20140902T190000
DTEND;TZID=America/New_York:20140902T220000
DTSTAMP:20141126T170525Z
URL:https://beahivebzzz.com/events/digital-salon-2014-09-02/
SUMMARY:Digital Salon - Beacon
DESCRIPTION:Beacon's Digital Salon is a casual gathering of individuals int
 erested in the purposeful use of the technologies of literacy\, technologi
 cal literacy\, and literal technologies. 
ATTACH;FMTTYPE=image/jpeg:https://i0.wp.com/beahivebzzz.com/wp-content/upl
 oads/2013/05/digital-salon_cropped.png?fit=396%2C350&ssl=1
CATEGORIES:Community,Professional Development
LOCATION:BEAHIVE Beacon / 291 Main Street\, Beacon\, NY
GEO:41.505775;-73.971742
X-APPLE-STRUCTURED-LOCATION;VALUE=URI;X-ADDRESS=291 Main Street\, Beacon\, 
 NY\, 12508\, Dutchess County\, United States;X-APPLE-RADIUS=100;X-TITLE=BE
 AHIVE Beacon:geo:41.505775,-73.971742
END:VEVENT
BEGIN:VTIMEZONE
TZID:America/New_York
X-LIC-LOCATION:America/New_York
BEGIN:DAYLIGHT
DTSTART:20140309T030000
TZOFFSETFROM:-0500
TZOFFSETTO:-0400
TZNAME:EDT
END:DAYLIGHT
END:VTIMEZONE
END:VCALENDAR