BEGIN:VCALENDAR
VERSION:2.0
PRODID:-//wp-events-plugin.com//7.2.3.1//EN
TZID:America/New_York
X-WR-TIMEZONE:America/New_York
BEGIN:VEVENT
UID:23677@beahivebzzz.com
DTSTART;TZID=America/New_York:20190420T100000
DTEND;TZID=America/New_York:20190420T120000
DTSTAMP:20190323T172415Z
URL:https://beahivebzzz.com/events/brainlingo-writing-the-voice-of-the-bod
 y-2019-04-20/
SUMMARY:Brainlingo: Writing The Voice Of The Body - Beacon
DESCRIPTION:Using performance\, movement and sensory exercises\, this work
 shop will be structured as a creative laboratory that will explore how we 
 communicate by exercising the languages inside us — to find where the se
 nses can meet each other\, where the creative process can begin. In 4 clas
 ses over 4 weeks\, work will be created\, discarded\, renewed. This will b
 e an active writing workshop\, internal/external movement required.
ATTACH;FMTTYPE=image/jpeg:https://i0.wp.com/beahivebzzz.com/wp-content/upl
 oads/2019/03/TORRES_RhizomeCROP2.jpg?fit=1639%2C1683&ssl=1
CATEGORIES:Personal Development,Professional Development
LOCATION:BEAHIVE Beacon / 291 Main Street\, Beacon\, NY
GEO:41.505775;-73.971742
X-APPLE-STRUCTURED-LOCATION;VALUE=URI;X-ADDRESS=291 Main Street\, Beacon\, 
 NY\, 12508\, Dutchess County\, United States;X-APPLE-RADIUS=100;X-TITLE=BE
 AHIVE Beacon:geo:41.505775,-73.971742
END:VEVENT
BEGIN:VTIMEZONE
TZID:America/New_York
X-LIC-LOCATION:America/New_York
BEGIN:DAYLIGHT
DTSTART:20190310T030000
TZOFFSETFROM:-0500
TZOFFSETTO:-0400
TZNAME:EDT
END:DAYLIGHT
END:VTIMEZONE
END:VCALENDAR