BEGIN:VCALENDAR
VERSION:2.0
PRODID:-//wp-events-plugin.com//7.2.3.1//EN
TZID:America/New_York
X-WR-TIMEZONE:America/New_York
BEGIN:VEVENT
UID:22637@beahivebzzz.com
DTSTART;TZID=America/New_York:20171216T093000
DTEND;TZID=America/New_York:20171216T113000
DTSTAMP:20171207T182532Z
URL:https://beahivebzzz.com/events/beacon-zoning-forum/
SUMMARY:Beacon Zoning Forum - Beacon
DESCRIPTION:Zoning laws are complicated and nuanced. Good ones balance priv
 ate interests with community needs. In light of the current development bo
 om in Beacon and some accompanying snafus and public outcry\, the city is 
 reviewing its zoning laws. Come and learn how zoning works\, what the curr
 ent zoning laws are\, what proposed changes would do\, etc.
ATTACH;FMTTYPE=image/jpeg:https://i0.wp.com/beahivebzzz.com/wp-content/upl
 oads/2017/12/Beacon-development-image.jpg?fit=701%2C394&ssl=1
CATEGORIES:Community
LOCATION:BEAHIVE Beacon / 291 Main Street\, Beacon\, NY
GEO:41.505775;-73.971742
X-APPLE-STRUCTURED-LOCATION;VALUE=URI;X-ADDRESS=291 Main Street\, Beacon\, 
 NY\, 12508\, Dutchess County\, United States;X-APPLE-RADIUS=100;X-TITLE=BE
 AHIVE Beacon:geo:41.505775,-73.971742
END:VEVENT
BEGIN:VTIMEZONE
TZID:America/New_York
X-LIC-LOCATION:America/New_York
BEGIN:STANDARD
DTSTART:20171105T010000
TZOFFSETFROM:-0400
TZOFFSETTO:-0500
TZNAME:EST
END:STANDARD
END:VTIMEZONE
END:VCALENDAR