BEGIN:VCALENDAR
VERSION:2.0
PRODID:-//wp-events-plugin.com//7.2.3.1//EN
TZID:America/New_York
X-WR-TIMEZONE:America/New_York
BEGIN:VEVENT
UID:24072@beahivebzzz.com
DTSTART;TZID=America/New_York:20201027T183000
DTEND;TZID=America/New_York:20201027T203000
DTSTAMP:20201026T134725Z
URL:https://beahivebzzz.com/events/beacon-film-society-presents-healing-fr
 om-hate/
SUMMARY:Beacon Film Society Presents: Healing From Hate - Beacon
DESCRIPTION:A powerful doc that examines the root causes of hate group acti
 vity through the bold work of those battling intolerance on the front line
 s. Q&A after the screening.
ATTACH;FMTTYPE=image/jpeg:https://i0.wp.com/beahivebzzz.com/wp-content/upl
 oads/2020/10/Healing-From-Hate-banner.jpg?fit=1280%2C651&ssl=1
CATEGORIES:Arts + Culture,Film
LOCATION:LNJ Tech Warehouse / 4 Hanna Lane\, Beacon\, NY
GEO:41.505737;-73.96119
X-APPLE-STRUCTURED-LOCATION;VALUE=URI;X-ADDRESS=4 Hanna Lane\, Beacon\, NY\
 , 12508\, Dutchess\, United States;X-APPLE-RADIUS=100;X-TITLE=LNJ Tech War
 ehouse:geo:41.505737,-73.96119
END:VEVENT
BEGIN:VTIMEZONE
TZID:America/New_York
X-LIC-LOCATION:America/New_York
BEGIN:DAYLIGHT
DTSTART:20200308T030000
TZOFFSETFROM:-0500
TZOFFSETTO:-0400
TZNAME:EDT
END:DAYLIGHT
END:VTIMEZONE
END:VCALENDAR