BEGIN:VCALENDAR
VERSION:2.0
PRODID:-//wp-events-plugin.com//7.2.3.1//EN
TZID:America/New_York
X-WR-TIMEZONE:America/New_York
BEGIN:VEVENT
UID:22193@beahivebzzz.com
DTSTART;TZID=America/New_York:20170820T130000
DTEND;TZID=America/New_York:20170820T150000
DTSTAMP:20171014T170350Z
URL:https://beahivebzzz.com/events/beacon-activist-collective-2017-08-20/
SUMMARY:Beacon Activist Collective - Beacon
DESCRIPTION:Beacon Activist Collective is a collaborative group formed on t
 he strength of the community concern of citizens of Beacon\, around the po
 tential erosion of civil rights\, social and environmental justice occurri
 ng after the election of Donald J. Trump.
ATTACH;FMTTYPE=image/jpeg:https://i0.wp.com/beahivebzzz.com/wp-content/upl
 oads/2017/02/Beacon-Activist-Collective.jpg?fit=600%2C465&ssl=1
CATEGORIES:Community
LOCATION:BEAHIVE Beacon / 291 Main Street\, Beacon\, NY
GEO:41.505775;-73.971742
X-APPLE-STRUCTURED-LOCATION;VALUE=URI;X-ADDRESS=291 Main Street\, Beacon\, 
 NY\, 12508\, Dutchess County\, United States;X-APPLE-RADIUS=100;X-TITLE=BE
 AHIVE Beacon:geo:41.505775,-73.971742
END:VEVENT
BEGIN:VTIMEZONE
TZID:America/New_York
X-LIC-LOCATION:America/New_York
BEGIN:DAYLIGHT
DTSTART:20170312T030000
TZOFFSETFROM:-0500
TZOFFSETTO:-0400
TZNAME:EDT
END:DAYLIGHT
END:VTIMEZONE
END:VCALENDAR